BEGIN:VCALENDAR
VERSION:2.0
PRODID:-//Actualitat Parc Taulí - ECPv5.10.0//NONSGML v1.0//EN
CALSCALE:GREGORIAN
METHOD:PUBLISH
X-WR-CALNAME:Actualitat Parc Taulí
X-ORIGINAL-URL:https://www.tauli.cat/actualitat
X-WR-CALDESC:Esdeveniments per Actualitat Parc Taulí
BEGIN:VTIMEZONE
TZID:Europe/Madrid
BEGIN:DAYLIGHT
TZOFFSETFROM:+0100
TZOFFSETTO:+0200
TZNAME:CEST
DTSTART:20230326T010000
END:DAYLIGHT
BEGIN:STANDARD
TZOFFSETFROM:+0200
TZOFFSETTO:+0100
TZNAME:CET
DTSTART:20231029T010000
END:STANDARD
END:VTIMEZONE
BEGIN:VEVENT
DTSTART;TZID=Europe/Madrid:20230502T140000
DTEND;TZID=Europe/Madrid:20230502T150000
DTSTAMP:20260422T113557
CREATED:20230428T105424Z
LAST-MODIFIED:20230522T074533Z
UID:5803-1683036000-1683039600@www.tauli.cat
SUMMARY:Intervencions de telepsiquiatria sincrònica per a la prevenció de conductes suïcides
DESCRIPTION:La investigadora Laura Comendador presentarà els resultats d’una revisió sistemàtica sobre els efectes de les intervencions de telepsiquiatria sincrònica en la prevenció de les conductes suïcides. \nComendador és referent de benestar emocional i salut comunitària (RBEC) en Atenció Primària de la Corporació Sanitària Parc Taulí i estudiant del programa de Doctorat en Psiquiatria de la Universitat Autònoma de Barcelona (UAB). \nLa sessió s’emmarca dins del cicle de seminaris Tardes científiques en salut mental i neurociències traslacional que tenen per objectiu donar a conèixer les línies de recerca i els projectes del grup G29 CIBERSAM per tal d’afavorir col·laboracions i nous projectes en xarxa dins de l’àmbit de la salut mental.
URL:https://www.tauli.cat/actualitat/agenda/intervencions-de-telepsiquiatria-sincronica-per-a-la-prevencio-de-conductes-suicides/
LOCATION:Sabadell\, Espanya
CATEGORIES:Conferència
ATTACH;FMTTYPE=image/png:https://www.tauli.cat/actualitat/wp-content/uploads/2023/04/Plantilla-Imatges-169-Web-3.png
END:VEVENT
BEGIN:VEVENT
DTSTART;TZID=Europe/Madrid:20230517T143000
DTEND;TZID=Europe/Madrid:20230517T153000
DTSTAMP:20260422T113557
CREATED:20230511T102915Z
LAST-MODIFIED:20230511T103315Z
UID:5890-1684333800-1684337400@www.tauli.cat
SUMMARY:Producte sanitari: nous reptes i canvi de paradigma
DESCRIPTION:La reglamentació europea de productes sanitaris va establir un nou marc normatiu que garanteix un alt nivell de seguretat i de protecció de la salut de pacients i usuaris. Si bé aquest reglament és d’aplicació directa a tots els països de la Unió Europea\, hi ha diversos aspectes que deixa a la regulació de cada Estat membre. A l’Estat espanyol\, al març d’aquest any s’ha aprovat el nou Real Decreto de Productos Sanitarios. \nFernando Atienza\, fundador de PS Consulting i expert en Medical Device Regulation\, oferirà el webinar “Producte sanitari: nous reptes i canvi de paradigma“\, en el marc del III Cicle de Conferències Científiques de l’Institut d’Investigació i Innovació Parc Taulí. Atienza ens donarà totes les claus d’aquesta nova normativa espanyola que aplica al desenvolupament d’un producte sanitari.
URL:https://www.tauli.cat/actualitat/agenda/producte-sanitari-nous-reptes-i-canvi-de-paradigma/
LOCATION:Sabadell\, Espanya
CATEGORIES:Conferència
ATTACH;FMTTYPE=image/jpeg:https://www.tauli.cat/actualitat/wp-content/uploads/2023/05/Plantilla-Imatges-169-Web-4.jpg
END:VEVENT
BEGIN:VEVENT
DTSTART;TZID=Europe/Madrid:20230530T140000
DTEND;TZID=Europe/Madrid:20230530T150000
DTSTAMP:20260422T113557
CREATED:20230522T080431Z
LAST-MODIFIED:20230626T163328Z
UID:5966-1685455200-1685458800@www.tauli.cat
SUMMARY:Discussió sobre la qualitat de les anàlisis biològiques i la seva implicació directa a la clínica
DESCRIPTION:L’investigador Antonio Armario liderarà el debat sobre la qualitat de les anàlisis biològiques i la seva implicació directa a la clínica. \nL’objectiu és posar de manifest\, amb els exemples d’algunes citocines i l’oxitocina\, els problemes d’interpretació dels resultats de la quantificació de paràmetres biològics com a biomarcadors en psiquiatria. \nAixí mateix\, es discutirà la fiabilitat dels mètodes de quantificació (com ELISA o plataformes com Luminex) i la relació entre les mesures obtingudes en diferents fluids biològics (per exemple\, plasma/sèrum\, saliva\, líquid cefaloraquidi). \nArmario és catedràtic de Fisiologia al Departament de Biologia Cel·lular i Fisiologia de la Universitat Autònoma de Barcelona (UAB) i coordinador del grup SGR de Neurobiologia de l’estrès i vulnerabilitat a la psicopatologia. \nLa sessió s’emmarca dins del cicle de seminaris Tardes científiques en salut mental i neurociències traslacional que tenen per objectiu donar a conèixer les línies de recerca i els projectes del grup G29 CIBERSAM per tal d’afavorir col·laboracions i nous projectes en xarxa dins de l’àmbit de la salut mental.
URL:https://www.tauli.cat/actualitat/agenda/discussio-sobre-la-qualitat-de-les-analisis-biologiques-i-la-seva-implicacio-directa-a-la-clinica/
LOCATION:Sabadell\, Espanya
CATEGORIES:Conferència
ATTACH;FMTTYPE=image/png:https://www.tauli.cat/actualitat/wp-content/uploads/2023/04/Plantilla-Imatges-169-Web-3.png
END:VEVENT
END:VCALENDAR