BEGIN:VCALENDAR
VERSION:2.0
PRODID:-//Actualitat Parc Taulí - ECPv5.10.0//NONSGML v1.0//EN
CALSCALE:GREGORIAN
METHOD:PUBLISH
X-WR-CALNAME:Actualitat Parc Taulí
X-ORIGINAL-URL:https://www.tauli.cat/actualitat
X-WR-CALDESC:Esdeveniments per Actualitat Parc Taulí
BEGIN:VTIMEZONE
TZID:Europe/Madrid
BEGIN:DAYLIGHT
TZOFFSETFROM:+0100
TZOFFSETTO:+0200
TZNAME:CEST
DTSTART:20230326T010000
END:DAYLIGHT
BEGIN:STANDARD
TZOFFSETFROM:+0200
TZOFFSETTO:+0100
TZNAME:CET
DTSTART:20231029T010000
END:STANDARD
END:VTIMEZONE
BEGIN:VEVENT
DTSTART;TZID=Europe/Madrid:20231220T143000
DTEND;TZID=Europe/Madrid:20231220T153000
DTSTAMP:20260422T021727
CREATED:20231215T095748Z
LAST-MODIFIED:20231218T162704Z
UID:9246-1703082600-1703086200@www.tauli.cat
SUMMARY:Transformació digital en l’àmbit de l’Atenció Domiciliària
DESCRIPTION:[vc_row][vc_column][vc_column_text]El progressiu envelliment de la població\, juntament amb l’augment de pacients amb condicions cròniques que busquen gaudir d’una bona qualitat de vida sent tractats a casa\, fan necessària una profunda revisió i reavaluació de l’actual model d’atenció domiciliària. \nEn aquest context\, la transformació digital es presenta com una de les peces clau\, tant pel pacient com pel professional\, per tal de donar resposta de manera eficaç a les necessitats plantejades per aquestes persones. \nGriselda Manzano\, cap de Servei d’Atenció Domiciliària de la CSMS i coordinadora de l’area de telemonitorització del grup de salut digital de la Corporació de Salut del Maresme i La Selva\, serà l’experta convidada en l’última conferència científica de l’any. \nManzano abordarà els beneficis\, els reptes i les oportunitats d’aquesta transformació digital\, així com les implicacions en la millora de la qualitat de vida dels pacients i l’optimització dels recursos de salut presents i futurs.[/vc_column_text][/vc_column][/vc_row]
URL:https://www.tauli.cat/actualitat/agenda/transformacio-digital-en-lambit-de-latencio-domiciliaria/
LOCATION:Sabadell\, Espanya
CATEGORIES:Conferència
ATTACH;FMTTYPE=image/jpeg:https://www.tauli.cat/actualitat/wp-content/uploads/2023/12/Conferencia_AtencioDomiciliaria.jpg
END:VEVENT
BEGIN:VEVENT
DTSTART;TZID=Europe/Madrid:20231221T130000
DTEND;TZID=Europe/Madrid:20231221T143000
DTSTAMP:20260422T021727
CREATED:20231120T093827Z
LAST-MODIFIED:20231127T095240Z
UID:7953-1703163600-1703169000@www.tauli.cat
SUMMARY:Beques Taulí de Recerca i Innovació 2023
DESCRIPTION:[vc_row][vc_column][vc_column_text]​​​​​​​​​​​​​​La present 25a Convocatòria de les Beques Taulí de Recerca i Innovació pretén fomentar la recerca i la innovació entre els i les professionals que desenvolupen tasques d’investigació i innovació a l’I3PT. \nA través d’ajuts econòmics\, es vol donar suport a projectes de recerca i innovació\, com el desenvolupament de proves de concepte\, l’inici d’activitats englobades en projectes de recerca de més envergadura\, o per cobrir despeses que complementin projectes competitius.[/vc_column_text][/vc_column][/vc_row][vc_row][vc_column width=”1/2″][vc_column_text]La ponència d’aquest any du de títol “Robots d’assistència a persones amb limitacions físiques o cognitives: Reptes tecnocientífics i ètics” \, a càrrec de Carme Torras i Genís\, matemàtica i escriptora\, professora de recerca del CSIC especialitzada en intel·ligència artificial i robòtica\, i Premi Nacional d’Investigació Julio Rey Pastor.[/vc_column_text][/vc_column][vc_column width=”1/2″][/vc_column][/vc_row]
URL:https://www.tauli.cat/actualitat/agenda/beques-tauli-de-recerca-i-innovacio-2023/
LOCATION:Auditori\, Parc del Taulí\, 1\, Sabadell\, Barcelona\, 08208\, Espanya
CATEGORIES:Activitats i trobades,Conferència
ATTACH;FMTTYPE=image/jpeg:https://www.tauli.cat/actualitat/wp-content/uploads/2023/11/Acte-Beques-Tauli.jpg
END:VEVENT
END:VCALENDAR