BEGIN:VCALENDAR
VERSION:2.0
PRODID:-//Actualitat Parc Taulí - ECPv5.10.0//NONSGML v1.0//EN
CALSCALE:GREGORIAN
METHOD:PUBLISH
X-WR-CALNAME:Actualitat Parc Taulí
X-ORIGINAL-URL:https://www.tauli.cat/actualitat
X-WR-CALDESC:Esdeveniments per Actualitat Parc Taulí
BEGIN:VTIMEZONE
TZID:Europe/Madrid
BEGIN:DAYLIGHT
TZOFFSETFROM:+0100
TZOFFSETTO:+0200
TZNAME:CEST
DTSTART:20220327T010000
END:DAYLIGHT
BEGIN:STANDARD
TZOFFSETFROM:+0200
TZOFFSETTO:+0100
TZNAME:CET
DTSTART:20221030T010000
END:STANDARD
END:VTIMEZONE
BEGIN:VEVENT
DTSTART;TZID=Europe/Madrid:20220517T140000
DTEND;TZID=Europe/Madrid:20220517T153000
DTSTAMP:20260423T050307
CREATED:20220512T124840Z
LAST-MODIFIED:20220516T151119Z
UID:4589-1652796000-1652801400@www.tauli.cat
SUMMARY:Tardes científiques: Sex differences in fear memory
DESCRIPTION:[vc_row][vc_column][vc_column_text]Eric Velasco presentarà el projecte europeu BioStress\, atorgat a la convocatòria ERA-NET 2020\, a la propera sessió de Tardes científiques en salut mental i neurociències traslacional. \nVelasco\, membre de l’equip del Dr. Raül Andero\, és estudiant de doctorat en recerca traslacional sobre la memòria de la por\, neuropèptids i hormones.[/vc_column_text][/vc_column][/vc_row]
URL:https://www.tauli.cat/actualitat/agenda/tardes-cientifiques-sex-differences-in-fear-memory/
LOCATION:Sabadell\, Espanya
CATEGORIES:Conferència
ATTACH;FMTTYPE=image/png:https://www.tauli.cat/actualitat/wp-content/uploads/2022/05/Tardes-Cientifiques-Salut-Mental-2.png
END:VEVENT
END:VCALENDAR