BEGIN:VCALENDAR
VERSION:2.0
PRODID:-//Actualitat Parc Taulí - ECPv5.10.0//NONSGML v1.0//EN
CALSCALE:GREGORIAN
METHOD:PUBLISH
X-WR-CALNAME:Actualitat Parc Taulí
X-ORIGINAL-URL:https://www.tauli.cat/actualitat
X-WR-CALDESC:Esdeveniments per Actualitat Parc Taulí
BEGIN:VTIMEZONE
TZID:Europe/Madrid
BEGIN:DAYLIGHT
TZOFFSETFROM:+0100
TZOFFSETTO:+0200
TZNAME:CEST
DTSTART:20260329T010000
END:DAYLIGHT
BEGIN:STANDARD
TZOFFSETFROM:+0200
TZOFFSETTO:+0100
TZNAME:CET
DTSTART:20261025T010000
END:STANDARD
END:VTIMEZONE
BEGIN:VEVENT
DTSTART;TZID=Europe/Madrid:20261021T183000
DTEND;TZID=Europe/Madrid:20261021T193000
DTSTAMP:20260421T141535
CREATED:20260420T065557Z
LAST-MODIFIED:20260420T065557Z
UID:82797-1792607400-1792611000@www.tauli.cat
SUMMARY:Salut en acció: què cal saber de les vacunes?
DESCRIPTION:Des dels CAPS Can Rull i Can Llong\, centres d’atenció primària del Consorci Corporació Sanitària Parc Taulí\, han encetat la segona edició del programa d’activitats comunitàries “Salut en acció”. \nEs tracta d’una iniciativa que té per objectiu promoure hàbits saludables i generar espais de diàlegs per ampliar els coneixements de la ciutadania envers la salut. \nLes sessions són gratuïtes i tenen lloc a l’Auditori de la Biblioteca de Ponent de Sabadell. \nEn aquesta ocasió es tractaran les vacunes.
URL:https://www.tauli.cat/actualitat/agenda/salut-en-accio-que-cal-saber-de-les-vacunes/
LOCATION:Biblioteca de Ponent (Sabadell)\, Plaça Ovidi Montllor\, 5\, Sabadell\, 08206\, Espanya
CATEGORIES:Sessió informativa
ATTACH;FMTTYPE=image/jpeg:https://www.tauli.cat/actualitat/wp-content/uploads/2026/04/doctor-with-gloves-administering-little-child-vaccine-scaled.jpg
END:VEVENT
END:VCALENDAR