BEGIN:VCALENDAR
VERSION:2.0
PRODID:-//Actualitat Parc Taulí - ECPv5.10.0//NONSGML v1.0//EN
CALSCALE:GREGORIAN
METHOD:PUBLISH
X-WR-CALNAME:Actualitat Parc Taulí
X-ORIGINAL-URL:https://www.tauli.cat/actualitat
X-WR-CALDESC:Esdeveniments per Actualitat Parc Taulí
BEGIN:VTIMEZONE
TZID:Europe/Madrid
BEGIN:DAYLIGHT
TZOFFSETFROM:+0100
TZOFFSETTO:+0200
TZNAME:CEST
DTSTART:20220327T010000
END:DAYLIGHT
BEGIN:STANDARD
TZOFFSETFROM:+0200
TZOFFSETTO:+0100
TZNAME:CET
DTSTART:20221030T010000
END:STANDARD
END:VTIMEZONE
BEGIN:VEVENT
DTSTART;TZID=Europe/Madrid:20221018T120000
DTEND;TZID=Europe/Madrid:20221018T170000
DTSTAMP:20260425T135843
CREATED:20220928T075614Z
LAST-MODIFIED:20220928T080720Z
UID:5146-1666094400-1666112400@www.tauli.cat
SUMMARY:4 tòpics en osteoporosi
DESCRIPTION:[vc_row][vc_column][vc_column_text]El Dr. Enrique Casado\, responsable de la Unitat de Metabolisme Ossi del Servei de Reumatologia de l’Hospital Universitari Parc Taulí\, organitza la 3ª edició del curs 4 Tòpics en osteoporosi \nAquesta activitat formativa s’adreça a personal mèdic i d’infermeria interessat pel diagnòstic i tractament de l’osteoporosi i les fractures per fragilitat. \nEn aquesta edició s’abordaran 4 aspectes: \n\nLa nova versió de FRAX\nL’osteoporosi en pacients amb malaltia renal crònica\nL’osteonecrosi del maxilar com a efecte advers d’alguns tractaments\nLa teràpia seqüencial a llarg termini.\n\nPonents: \n\nCristina Carbonell. Medicina de Família. CAP Manso. Institut Català de la Salut. Barcelona\nEnrique Casado Burgos. Servei de Reumatologia. Corporació Sanitària Parc Taulí. Sabadell\nLaia Gifre Sala. Servei de Reumatologia. Hospital Universitari Germans Trias i Pujol\, Badalona\nDaniel Martínez Laguna. Medicina de Família. CAP Sant Martí de Provençals. Institut Català de la Salut. Barcelona.\n\nEls assistents rebran els crèdits corresponents del Consell Català de Formació Continuada de les Professions Sanitàries – Comisión de Formación Continuada del Sistema Nacional de Salud. \nAixí mateix\, els metges i metgesses residents de qualsevol especialitat poden assistir-hi i registrar-se\, però no poden rebre crèdits.[/vc_column_text][/vc_column][/vc_row]
URL:https://www.tauli.cat/actualitat/agenda/4-topics-en-osteoporosi/
LOCATION:Auditori\, Parc del Taulí\, 1\, Sabadell\, Barcelona\, 08208\, Espanya
CATEGORIES:Formació
ATTACH;FMTTYPE=image/jpeg:https://www.tauli.cat/actualitat/wp-content/uploads/2022/09/woman-s-hand-he-is-caught-at-the-waist-and-her-back1-scaled.jpg
END:VEVENT
BEGIN:VEVENT
DTSTART;TZID=Europe/Madrid:20221014T093000
DTEND;TZID=Europe/Madrid:20221014T103000
DTSTAMP:20260425T135843
CREATED:20220920T120215Z
LAST-MODIFIED:20220920T120215Z
UID:5117-1665739800-1665743400@www.tauli.cat
SUMMARY:1a Jornada de Patologia Trombòtica
DESCRIPTION:
URL:https://www.tauli.cat/actualitat/agenda/1a-jornada-de-patologia-trombotica/
LOCATION:Auditori\, Parc del Taulí\, 1\, Sabadell\, Barcelona\, 08208\, Espanya
CATEGORIES:Formació
ATTACH;FMTTYPE=image/jpeg:https://www.tauli.cat/actualitat/wp-content/uploads/2022/09/red-blood-cells-inside-an-artery-vein-flow-of-blood-inside-living-organism-scientific-and-medical-concept-transfer-of-important-elements-in-the-blood-to-protect-the-body-3d-illustration.jpg
END:VEVENT
BEGIN:VEVENT
DTSTART;TZID=Europe/Madrid:20221013T081500
DTEND;TZID=Europe/Madrid:20221013T190000
DTSTAMP:20260425T135843
CREATED:20220920T105933Z
LAST-MODIFIED:20221004T074710Z
UID:5109-1665648900-1665687600@www.tauli.cat
SUMMARY:12a edició del curs/taller: Ventilació mecànica no invasiva (VMNI) per a medicina d'Urgències i Emergències
DESCRIPTION:
URL:https://www.tauli.cat/actualitat/agenda/12a-edicio-del-curs-taller-ventilacio-mecacnica-no-invasiva-vmni-per-a-medicina-durgencies-i-emergencies/
LOCATION:Auditori\, Parc del Taulí\, 1\, Sabadell\, Barcelona\, 08208\, Espanya
CATEGORIES:Formació
ATTACH;FMTTYPE=image/jpeg:https://www.tauli.cat/actualitat/wp-content/uploads/2022/09/oxygen-mask-as-part-of-artificial-lungs-ventilation-machine-in-surgery-room-closeup-covid-19-and-coronavirus-identification-pandemic.jpg
END:VEVENT
BEGIN:VEVENT
DTSTART;TZID=Europe/Madrid:20220927T160000
DTEND;TZID=Europe/Madrid:20220927T180000
DTSTAMP:20260425T135843
CREATED:20220920T101207Z
LAST-MODIFIED:20220920T101207Z
UID:5102-1664294400-1664301600@www.tauli.cat
SUMMARY:Pràctica clínica en oncologia de ronyó i pròstata
DESCRIPTION:
URL:https://www.tauli.cat/actualitat/agenda/practica-clinica-en-oncologia-de-ronyo-i-prostata/
LOCATION:Auditori\, Parc del Taulí\, 1\, Sabadell\, Barcelona\, 08208\, Espanya
CATEGORIES:Formació
ATTACH;FMTTYPE=image/jpeg:https://www.tauli.cat/actualitat/wp-content/uploads/2022/09/Oncologia_ronyo_Prostata.jpg
END:VEVENT
BEGIN:VEVENT
DTSTART;TZID=Europe/Madrid:20220902T131500
DTEND;TZID=Europe/Madrid:20220902T131500
DTSTAMP:20260425T135843
CREATED:20220822T094416Z
LAST-MODIFIED:20220822T101252Z
UID:5019-1662124500-1662124500@www.tauli.cat
SUMMARY:50 aniversari del Centre del Cirurgia Experimental - Lliurament de diplomes dels Cursos Teòric-Pràctics de Tècnica Microquirúrgica del 2019 al 2022
DESCRIPTION:
URL:https://www.tauli.cat/actualitat/agenda/50-aniversari-de-centre-de-cirurgia-experimental-lliurament-de-diplomes-dels-cursos-teoric-pratics-de-tecnica-microquirurgica-del-2019-al-2022/
LOCATION:Auditori\, Parc del Taulí\, 1\, Sabadell\, Barcelona\, 08208\, Espanya
ATTACH;FMTTYPE=image/jpeg:https://www.tauli.cat/actualitat/wp-content/uploads/2022/08/1.jpg
END:VEVENT
BEGIN:VEVENT
DTSTART;TZID=Europe/Madrid:20220721T100000
DTEND;TZID=Europe/Madrid:20220721T210000
DTSTAMP:20260425T135843
CREATED:20220715T123341Z
LAST-MODIFIED:20220720T111758Z
UID:4912-1658397600-1658437200@www.tauli.cat
SUMMARY:Campanya de donació de sang al Parc Taulí
DESCRIPTION:
URL:https://www.tauli.cat/actualitat/agenda/campanya-de-donacio-de-sang-al-parc-tauli/
LOCATION:Auditori\, Parc del Taulí\, 1\, Sabadell\, Barcelona\, 08208\, Espanya
CATEGORIES:Activitats i trobades
ATTACH;FMTTYPE=image/png:https://www.tauli.cat/actualitat/wp-content/uploads/2022/07/la_teva_sang_es_un_regal_149883483727_800_2.png
END:VEVENT
BEGIN:VEVENT
DTSTART;TZID=Europe/Madrid:20220520T110000
DTEND;TZID=Europe/Madrid:20220520T140000
DTSTAMP:20260425T135843
CREATED:20220426T131349Z
LAST-MODIFIED:20220502T095421Z
UID:4521-1653044400-1653055200@www.tauli.cat
SUMMARY:Jornada d'Assajos Clínics
DESCRIPTION:[vc_row][vc_column][vc_column_text]L’Institut d’Investigació i Innovació Parc Taulí organitza una jornada amb actors clau de la recerca clínica a nivell estatal amb l’objectiu de fomentar els assajos clínics a la institució\, així com per afavorir noves oportunitats de col·laboració\, i presentar els serveis que ofereix la Unitat de suport als assajos clínics del Parc Taulí.[/vc_column_text][/vc_column][/vc_row]
URL:https://www.tauli.cat/actualitat/agenda/jornada-dassajos-clinics/
LOCATION:Auditori\, Parc del Taulí\, 1\, Sabadell\, Barcelona\, 08208\, Espanya
CATEGORIES:Conferència
ATTACH;FMTTYPE=image/png:https://www.tauli.cat/actualitat/wp-content/uploads/2022/04/Assajos-Clinics-Creativitats-1.png
END:VEVENT
BEGIN:VEVENT
DTSTART;VALUE=DATE:20220516
DTEND;VALUE=DATE:20220518
DTSTAMP:20260425T135843
CREATED:20220301T084137Z
LAST-MODIFIED:20220301T085644Z
UID:4378-1652659200-1652831999@www.tauli.cat
SUMMARY:IX Curso teórico práctico de Ecografía del Acceso Vascular para Enfermería de Nefrología
DESCRIPTION:
URL:https://www.tauli.cat/actualitat/agenda/ix-curso-teorico-practico-de-ecografia-del-acceso-vascular-para-enfermeria-de-nefrologia/
LOCATION:Auditori\, Parc del Taulí\, 1\, Sabadell\, Barcelona\, 08208\, Espanya
CATEGORIES:Formació
ATTACH;FMTTYPE=image/jpeg:https://www.tauli.cat/actualitat/wp-content/uploads/2022/03/IMGP1380_2_2.jpg
ORGANIZER;CN="Parc%20Taul%C3%AD":MAILTO:comunicacio@tauli.cat
END:VEVENT
BEGIN:VEVENT
DTSTART;TZID=Europe/Madrid:20220512T083000
DTEND;TZID=Europe/Madrid:20220512T123000
DTSTAMP:20260425T135843
CREATED:20220510T103812Z
LAST-MODIFIED:20220511T091017Z
UID:4576-1652344200-1652358600@www.tauli.cat
SUMMARY:Celebració del Dia Internacional de la Infermeria amb la 'Jornada Infermera 2022'
DESCRIPTION:
URL:https://www.tauli.cat/actualitat/agenda/celebracio-del-dia-internacional-de-la-infermeria-amb-la-jornada-infermera-2022/
LOCATION:Auditori\, Parc del Taulí\, 1\, Sabadell\, Barcelona\, 08208\, Espanya
ATTACH;FMTTYPE=image/jpeg:https://www.tauli.cat/actualitat/wp-content/uploads/2022/05/Jornada_Infermera_2022.jpg
ORGANIZER;CN="Parc%20Taul%C3%AD":MAILTO:comunicacio@tauli.cat
END:VEVENT
BEGIN:VEVENT
DTSTART;TZID=Europe/Madrid:20220505T180000
DTEND;TZID=Europe/Madrid:20220505T191500
DTSTAMP:20260425T135843
CREATED:20220323T141405Z
LAST-MODIFIED:20220504T084537Z
UID:4438-1651773600-1651778100@www.tauli.cat
SUMMARY:Com afrontem la següent COVID? Recerca\, divulgació i mecenatge\, el paper dels professionals clínics i la ciutadania
DESCRIPTION:[vc_row][vc_column][vc_column_text]L’Institut d’Investigació i Innovació Parc Taulí organitza l’acte «Com afrontem la següent COVID? Recerca\, divulgació i mecenatge\, el paper dels professionals clínics i la ciutadania». \nL’acte consistirà en una taula rodona amb la participació de la Dra. Magda Campins\, el Dr. Manel Cervantes\, el Dr. Bonaventura Clotet i la Dra. Mireia Subirana\, i la periodista Marina Romero. \nAmb aquests professionals\, que han sigut algunes de les veus més respectades i de referència d’aquesta pandèmia\, debatrem sobre la importància de la recerca per entendre com hem arribat a la situació epidemiològica actual i com podem anticipar-nos al futur. També reflexionarem de quina manera la ciutadania pot contribuir a fer front a un nou repte sanitari d’aquesta magnitud. \nPosterioment\, amb l’objectiu de fomentar la investigació i la innovació a l’I3PT\, es farà entrega de les beques Teresa Escursell —en homenatge a la Sra. Escursell\, qui va donar el seu llegat a la recerca de l’Institut— \, les beques Impacte COVID-19 i les intramurals.[/vc_column_text][/vc_column][/vc_row]
URL:https://www.tauli.cat/actualitat/agenda/com-afrontem-la-seguent-covid-recerca-divulgacio-i-mecenatge-el-paper-dels-professionals-clinics-i-la-ciutadania/
LOCATION:Auditori\, Parc del Taulí\, 1\, Sabadell\, Barcelona\, 08208\, Espanya
CATEGORIES:Conferència
ATTACH;FMTTYPE=image/png:https://www.tauli.cat/actualitat/wp-content/uploads/2022/03/Taula-Rodona-Covid-Beques-Escursell-8.png
END:VEVENT
BEGIN:VEVENT
DTSTART;TZID=Europe/Madrid:20220428T090000
DTEND;TZID=Europe/Madrid:20220428T170000
DTSTAMP:20260425T135843
CREATED:20220302T113959Z
LAST-MODIFIED:20220428T065359Z
UID:4362-1651136400-1651165200@www.tauli.cat
SUMMARY:Jornada de BIM hospitalari: Els edificis curen
DESCRIPTION:[vc_row][vc_column][vc_column_text]En aquests temps\, més que mai\, als hospitals ens hem vist amb la necessitat d’afrontar una sèrie de reptes\, fins ara desconeguts\, que donessin resposta a l’emergència sanitària provocada per la COVID-19. \nEn la vessant d’infraestructures\, s’ha posat de manifest el paper que tenen els edificis com a un element assistencial més i la necessitat de tenir un coneixement total d’allò que passa de portes cap endins. \nOptimitzar la gestió d’espais\, documentar tots els actius dels edificis\, reduir el temps de resposta dels operaris\, monitorar en temps real la qualitat de l’aire o simular de forma virtual potencials escenaris d’emergència són només alguns dels beneficis que ens pot aportar la implantació del BIM als hospitals. \nAl Parc Taulí de Sabadell creiem fermament que l’aplicació del BIM pot millorar les condicions tant de pacients\, acompanyants i personal sanitari en la seva activitat diària\, i per això hem organitzat aquesta jornada sota el lema “Els edificis curen” amb l’objectiu de posar sobre la taula la realitat actual del BIM en l’àmbit hospitalari. \nAl llarg de la jornada\, arquitectes\, enginyers\, proveïdors i tota mena de professionals relacionats amb el món BIM\, ens aportaran la seva experiència amb aquesta metodologia\, i esperem que tot aquest coneixement adquirit ens permeti establir les bases per definir una estratègia comuna que serveixi d’accelerador per la implantació del BIM en el nostre sector.[/vc_column_text][/vc_column][/vc_row]
URL:https://www.tauli.cat/actualitat/agenda/jornada-de-bim-hospitalari-els-edificis-curen/
LOCATION:Auditori\, Parc del Taulí\, 1\, Sabadell\, Barcelona\, 08208\, Espanya
CATEGORIES:Conferència
ATTACH;FMTTYPE=image/jpeg:https://www.tauli.cat/actualitat/wp-content/uploads/2022/03/Jornada-BIM-Hospitalari-Tauli-portada_agenda.jpg
ORGANIZER;CN="Parc%20Taul%C3%AD":MAILTO:comunicacio@tauli.cat
END:VEVENT
BEGIN:VEVENT
DTSTART;VALUE=DATE:20220312
DTEND;VALUE=DATE:20220313
DTSTAMP:20260425T135843
CREATED:20220124T114435Z
LAST-MODIFIED:20220209T072330Z
UID:4274-1647043200-1647129599@www.tauli.cat
SUMMARY:Curs pediàtric de Pneumologia\, Al·lèrgia i Fibrosi Quística
DESCRIPTION:
URL:https://www.tauli.cat/actualitat/agenda/curs-pediatric-de-pneumologia-allergia-i-fibrosi-quistica/
LOCATION:Auditori\, Parc del Taulí\, 1\, Sabadell\, Barcelona\, 08208\, Espanya
CATEGORIES:Formació
ATTACH;FMTTYPE=image/jpeg:https://www.tauli.cat/actualitat/wp-content/uploads/2022/01/the-girl-breathes-in-mask-pulmonary-diseases-in-children.jpg
ORGANIZER;CN="Parc%20Taul%C3%AD":MAILTO:comunicacio@tauli.cat
END:VEVENT
BEGIN:VEVENT
DTSTART;VALUE=DATE:20220214
DTEND;VALUE=DATE:20220215
DTSTAMP:20260425T135843
CREATED:20210909T130102Z
LAST-MODIFIED:20211123T123203Z
UID:3827-1644796800-1644883199@www.tauli.cat
SUMMARY:XVII Curs teoricopràctic d'ecografia per a l'accés vascular en hemodiàlisi
DESCRIPTION:
URL:https://www.tauli.cat/actualitat/agenda/xvii-curs-teoricopractic-ecografia-per-a-lacces-vascular-en-hemodialisi/
LOCATION:Auditori\, Parc del Taulí\, 1\, Sabadell\, Barcelona\, 08208\, Espanya
CATEGORIES:Formació
ATTACH;FMTTYPE=image/jpeg:https://www.tauli.cat/actualitat/wp-content/uploads/2021/09/curs-xii-eco-av-agenda.jpg
ORGANIZER;CN="Parc%20Taul%C3%AD":MAILTO:comunicacio@tauli.cat
END:VEVENT
END:VCALENDAR