BEGIN:VCALENDAR
VERSION:2.0
PRODID:-//Actualitat Parc Taulí - ECPv5.10.0//NONSGML v1.0//EN
CALSCALE:GREGORIAN
METHOD:PUBLISH
X-WR-CALNAME:Actualitat Parc Taulí
X-ORIGINAL-URL:https://www.tauli.cat/actualitat
X-WR-CALDESC:Esdeveniments per Actualitat Parc Taulí
BEGIN:VTIMEZONE
TZID:Europe/Madrid
BEGIN:DAYLIGHT
TZOFFSETFROM:+0100
TZOFFSETTO:+0200
TZNAME:CEST
DTSTART:20210328T010000
END:DAYLIGHT
BEGIN:STANDARD
TZOFFSETFROM:+0200
TZOFFSETTO:+0100
TZNAME:CET
DTSTART:20211031T010000
END:STANDARD
BEGIN:DAYLIGHT
TZOFFSETFROM:+0100
TZOFFSETTO:+0200
TZNAME:CEST
DTSTART:20220327T010000
END:DAYLIGHT
BEGIN:STANDARD
TZOFFSETFROM:+0200
TZOFFSETTO:+0100
TZNAME:CET
DTSTART:20221030T010000
END:STANDARD
TZID:America/Adak
BEGIN:DAYLIGHT
TZOFFSETFROM:-1000
TZOFFSETTO:-0900
TZNAME:HDT
DTSTART:20210314T120000
END:DAYLIGHT
BEGIN:STANDARD
TZOFFSETFROM:-0900
TZOFFSETTO:-1000
TZNAME:HST
DTSTART:20211107T110000
END:STANDARD
END:VTIMEZONE
BEGIN:VEVENT
DTSTART;TZID=Europe/Madrid:20220615T143000
DTEND;TZID=Europe/Madrid:20220615T153000
DTSTAMP:20260423T181727
CREATED:20220523T124558Z
LAST-MODIFIED:20230717T125122Z
UID:4623-1655303400-1655307000@www.tauli.cat
SUMMARY:La importància de la comunicació en la ciència
DESCRIPTION:[vc_row][vc_column][vc_column_text]Per què és important la divulgació científica? Quines eines i recursos té el personal investigador per comunicar els resultats de la seva recerca a la societat? Què cal de tenir en compte? \nAnna Ramon\, cap de comunicacions del CREAF\, oferirà el webinar “La importància de la comunicació en la ciència” en la propera càpsula del II Cicle de Conferències Científiques de l’Institut d’Investigació i Innovació Parc Taulí (I3PT).[/vc_column_text][/vc_column][/vc_row]
URL:https://www.tauli.cat/actualitat/agenda/la-importancia-de-la-comunicacio-en-la-ciencia/
CATEGORIES:Conferència
ATTACH;FMTTYPE=image/jpeg:https://www.tauli.cat/actualitat/wp-content/uploads/2022/05/Plantilla-Imatges-169-Web.jpg
END:VEVENT
BEGIN:VEVENT
DTSTART;TZID=Europe/Madrid:20220520T110000
DTEND;TZID=Europe/Madrid:20220520T140000
DTSTAMP:20260423T181727
CREATED:20220426T131349Z
LAST-MODIFIED:20220502T095421Z
UID:4521-1653044400-1653055200@www.tauli.cat
SUMMARY:Jornada d'Assajos Clínics
DESCRIPTION:[vc_row][vc_column][vc_column_text]L’Institut d’Investigació i Innovació Parc Taulí organitza una jornada amb actors clau de la recerca clínica a nivell estatal amb l’objectiu de fomentar els assajos clínics a la institució\, així com per afavorir noves oportunitats de col·laboració\, i presentar els serveis que ofereix la Unitat de suport als assajos clínics del Parc Taulí.[/vc_column_text][/vc_column][/vc_row]
URL:https://www.tauli.cat/actualitat/agenda/jornada-dassajos-clinics/
LOCATION:Auditori\, Parc del Taulí\, 1\, Sabadell\, Barcelona\, 08208\, Espanya
CATEGORIES:Conferència
ATTACH;FMTTYPE=image/png:https://www.tauli.cat/actualitat/wp-content/uploads/2022/04/Assajos-Clinics-Creativitats-1.png
END:VEVENT
BEGIN:VEVENT
DTSTART;TZID=Europe/Madrid:20220518T143000
DTEND;TZID=Europe/Madrid:20220518T153000
DTSTAMP:20260423T181727
CREATED:20220516T135244Z
LAST-MODIFIED:20220516T135244Z
UID:4615-1652884200-1652887800@www.tauli.cat
SUMMARY:Participació ciutadana en els projectes de recerca: com crear coneixement col.lectiu en salut
DESCRIPTION:[vc_row][vc_column][vc_column_text] \n\nConstanza Jacques Aviñó presenta el webinar “Participació ciutadana en els projectes de recerca: com crear coneixement col.lectiu en salut” dins del II Cicle de Conferències Científiques de l’I3PT.\n\n\nConstanza Jacques compta amb un màster en Salut Pública i és doctora en Antropologia Mèdica. És tècnica investigadora a l’IDIAP Jordi Gol i és experta en estudis amb metodologia qualitativa i metodologia mixta. Així mateix\, és col·laboradora docent de la Universitat Oberta de Catalunya\, la Universitat Pompeu Fabra i la Universitat Autònoma de Barcelona.\n\n\nActualment\, la seva línia de recerca es centra en la participació pública en la recerca en salut\, gènere i inequitats socials en salut.\n\n[/vc_column_text][/vc_column][/vc_row]
URL:https://www.tauli.cat/actualitat/agenda/participacio-ciutadana-en-els-projectes-de-recerca-com-crear-coneixement-col-lectiu-en-salut/
CATEGORIES:Conferència
ATTACH;FMTTYPE=image/png:https://www.tauli.cat/actualitat/wp-content/uploads/2022/05/Conferencies-Cientifiques-2.png
END:VEVENT
BEGIN:VEVENT
DTSTART;TZID=Europe/Madrid:20220517T140000
DTEND;TZID=Europe/Madrid:20220517T153000
DTSTAMP:20260423T181727
CREATED:20220512T124840Z
LAST-MODIFIED:20220516T151119Z
UID:4589-1652796000-1652801400@www.tauli.cat
SUMMARY:Tardes científiques: Sex differences in fear memory
DESCRIPTION:[vc_row][vc_column][vc_column_text]Eric Velasco presentarà el projecte europeu BioStress\, atorgat a la convocatòria ERA-NET 2020\, a la propera sessió de Tardes científiques en salut mental i neurociències traslacional. \nVelasco\, membre de l’equip del Dr. Raül Andero\, és estudiant de doctorat en recerca traslacional sobre la memòria de la por\, neuropèptids i hormones.[/vc_column_text][/vc_column][/vc_row]
URL:https://www.tauli.cat/actualitat/agenda/tardes-cientifiques-sex-differences-in-fear-memory/
CATEGORIES:Conferència
ATTACH;FMTTYPE=image/png:https://www.tauli.cat/actualitat/wp-content/uploads/2022/05/Tardes-Cientifiques-Salut-Mental-2.png
END:VEVENT
BEGIN:VEVENT
DTSTART;TZID=Europe/Madrid:20220505T180000
DTEND;TZID=Europe/Madrid:20220505T191500
DTSTAMP:20260423T181727
CREATED:20220323T141405Z
LAST-MODIFIED:20220504T084537Z
UID:4438-1651773600-1651778100@www.tauli.cat
SUMMARY:Com afrontem la següent COVID? Recerca\, divulgació i mecenatge\, el paper dels professionals clínics i la ciutadania
DESCRIPTION:[vc_row][vc_column][vc_column_text]L’Institut d’Investigació i Innovació Parc Taulí organitza l’acte «Com afrontem la següent COVID? Recerca\, divulgació i mecenatge\, el paper dels professionals clínics i la ciutadania». \nL’acte consistirà en una taula rodona amb la participació de la Dra. Magda Campins\, el Dr. Manel Cervantes\, el Dr. Bonaventura Clotet i la Dra. Mireia Subirana\, i la periodista Marina Romero. \nAmb aquests professionals\, que han sigut algunes de les veus més respectades i de referència d’aquesta pandèmia\, debatrem sobre la importància de la recerca per entendre com hem arribat a la situació epidemiològica actual i com podem anticipar-nos al futur. També reflexionarem de quina manera la ciutadania pot contribuir a fer front a un nou repte sanitari d’aquesta magnitud. \nPosterioment\, amb l’objectiu de fomentar la investigació i la innovació a l’I3PT\, es farà entrega de les beques Teresa Escursell —en homenatge a la Sra. Escursell\, qui va donar el seu llegat a la recerca de l’Institut— \, les beques Impacte COVID-19 i les intramurals.[/vc_column_text][/vc_column][/vc_row]
URL:https://www.tauli.cat/actualitat/agenda/com-afrontem-la-seguent-covid-recerca-divulgacio-i-mecenatge-el-paper-dels-professionals-clinics-i-la-ciutadania/
LOCATION:Auditori\, Parc del Taulí\, 1\, Sabadell\, Barcelona\, 08208\, Espanya
CATEGORIES:Conferència
ATTACH;FMTTYPE=image/png:https://www.tauli.cat/actualitat/wp-content/uploads/2022/03/Taula-Rodona-Covid-Beques-Escursell-8.png
END:VEVENT
BEGIN:VEVENT
DTSTART;TZID=Europe/Madrid:20220420T143000
DTEND;TZID=Europe/Madrid:20220420T153000
DTSTAMP:20260423T181727
CREATED:20220407T063955Z
LAST-MODIFIED:20220407T063955Z
UID:4457-1650465000-1650468600@www.tauli.cat
SUMMARY:Vacuna d'HIPRA contra la COVID: Experiència i aprenentatges
DESCRIPTION:
URL:https://www.tauli.cat/actualitat/agenda/vacuna-dhipra-contra-la-covid-experiencia-i-aprenentatges/
CATEGORIES:Conferència
ATTACH;FMTTYPE=image/png:https://www.tauli.cat/actualitat/wp-content/uploads/2022/04/Conferencies-Cientifiques.png
END:VEVENT
BEGIN:VEVENT
DTSTART;TZID=Europe/Madrid:20220419T140000
DTEND;TZID=Europe/Madrid:20220419T150000
DTSTAMP:20260423T181727
CREATED:20220411T104958Z
LAST-MODIFIED:20230717T125037Z
UID:4471-1650376800-1650380400@www.tauli.cat
SUMMARY:Neurobiologia de l'estrès i vulnerabilitat a la psicopatologia
DESCRIPTION:
URL:https://www.tauli.cat/actualitat/agenda/neurobiologia-de-lestres-i-vulnerabilitat-a-la-psicopatologia/
CATEGORIES:Conferència
ATTACH;FMTTYPE=image/png:https://www.tauli.cat/actualitat/wp-content/uploads/2022/04/Tardes-Cientifiques-Salut-Mental.png
END:VEVENT
BEGIN:VEVENT
DTSTART;VALUE=DATE:20220324
DTEND;VALUE=DATE:20220326
DTSTAMP:20260423T181727
CREATED:20220124T105254Z
LAST-MODIFIED:20220209T072558Z
UID:4267-1648080000-1648252799@www.tauli.cat
SUMMARY:La Cirrosi Hepàtica; recomanacions i maneig de les seves complicacions
DESCRIPTION:
URL:https://www.tauli.cat/actualitat/agenda/la-cirrosi-hepatica-recomanacions-i-maneig-de-les-seves-complicacions/
LOCATION:Sala de treball – 3a planta edf. Albada\, Consorci Corporació Parc Taulí\, Parc del Taulí\, 1\, Sabadell\, Barcelona\, 08208
CATEGORIES:Conferència
ATTACH;FMTTYPE=image/jpeg:https://www.tauli.cat/actualitat/wp-content/uploads/2022/01/hands-of-doctor-with-stethoscope-touch-liver_2.jpg
END:VEVENT
BEGIN:VEVENT
DTSTART;TZID=Europe/Madrid:20220316T143000
DTEND;TZID=Europe/Madrid:20220316T153000
DTSTAMP:20260423T181727
CREATED:20220301T111456Z
LAST-MODIFIED:20230717T123440Z
UID:4384-1647441000-1647444600@www.tauli.cat
SUMMARY:Sexe i gènere en la recerca clínica: com ho podem fer millor?
DESCRIPTION:
URL:https://www.tauli.cat/actualitat/agenda/sexe-i-genere-en-la-recerca-clinica-com-ho-podem-fer-millor/
CATEGORIES:Conferència
ATTACH;FMTTYPE=image/jpeg:https://www.tauli.cat/actualitat/wp-content/uploads/2022/03/science-engineer-using-microscope-to-analyze-dna-sample-in-laboratory-woman-biologist-working-with-microscopic-glass-lens-on-lab-tool-and-computer-wearing-protective-goggles-and-gloves-scaled.jpg
END:VEVENT
BEGIN:VEVENT
DTSTART;TZID=Europe/Madrid:20220215T140000
DTEND;TZID=Europe/Madrid:20220215T153000
DTSTAMP:20260423T181727
CREATED:20220210T100811Z
LAST-MODIFIED:20230717T090305Z
UID:4326-1644933600-1644939000@www.tauli.cat
SUMMARY:Projecte sobre interacció entre factors neurohormonals i psicosocials de resiliència en la depressió postpart
DESCRIPTION:
URL:https://www.tauli.cat/actualitat/agenda/projecte-sobre-interaccio-entre-factors-neurohormonals-i-psicosocials-de-resiliencia-en-la-depressio-postpart/
CATEGORIES:Conferència
ATTACH;FMTTYPE=image/jpeg:https://www.tauli.cat/actualitat/wp-content/uploads/2022/02/young-depressed-woman-domestic-and-rape-violence-scaled.jpg
END:VEVENT
BEGIN:VEVENT
DTSTART;TZID=Europe/Madrid:20220203T130000
DTEND;TZID=Europe/Madrid:20220203T143000
DTSTAMP:20260423T181727
CREATED:20211123T141438Z
LAST-MODIFIED:20220124T083302Z
UID:4194-1643893200-1643898600@www.tauli.cat
SUMMARY:Acte de lliurament de les Beques Taulí 2021
DESCRIPTION:
URL:https://www.tauli.cat/actualitat/agenda/acte-de-lliurament-de-les-beques-tauli-2021/
CATEGORIES:Conferència
ATTACH;FMTTYPE=image/jpeg:https://www.tauli.cat/actualitat/wp-content/uploads/2021/11/beques-2021-agenda-actualidad.jpg
END:VEVENT
BEGIN:VEVENT
DTSTART;TZID=Europe/Madrid:20220118T140000
DTEND;TZID=Europe/Madrid:20220118T150000
DTSTAMP:20260423T181727
CREATED:20220110T095352Z
LAST-MODIFIED:20230717T090037Z
UID:4254-1642514400-1642518000@www.tauli.cat
SUMMARY:Recerca de correlats neurobiològics de factors de risc per a problemes de salut mental
DESCRIPTION:
URL:https://www.tauli.cat/actualitat/agenda/recerca-de-correlats-neurobiologics-de-factors-de-risc-per-a-problemes-de-salut-mental/
CATEGORIES:Conferència
ATTACH;FMTTYPE=image/jpeg:https://www.tauli.cat/actualitat/wp-content/uploads/2022/01/businessman-drawing-digital-x-ray-human-brain-in-his-hand-3d-rendering-scaled.jpg
END:VEVENT
BEGIN:VEVENT
DTSTART;VALUE=DATE:20220110
DTEND;VALUE=DATE:20220111
DTSTAMP:20260423T181727
CREATED:20210909T115355Z
LAST-MODIFIED:20211103T104142Z
UID:3813-1641772800-1641859199@www.tauli.cat
SUMMARY:Assistència integral al malalt traumàtic greu - 19a edició
DESCRIPTION:
URL:https://www.tauli.cat/actualitat/agenda/19-edicio-assistencia-integral-al-malalt-traumatic-greu/
LOCATION:Parc Taulí\, Parc del Taulí\, 1\, Sabadell\, Barcelona\, 08208\, Espanya
CATEGORIES:Formació
ATTACH;FMTTYPE=image/jpeg:https://www.tauli.cat/actualitat/wp-content/uploads/2021/09/Critico_2.jpg
END:VEVENT
BEGIN:VEVENT
DTSTART;TZID=Europe/Madrid:20211221T143000
DTEND;TZID=Europe/Madrid:20211221T160000
DTSTAMP:20260423T181727
CREATED:20211006T145516Z
LAST-MODIFIED:20211215T110211Z
UID:4041-1640097000-1640102400@www.tauli.cat
SUMMARY:SchizOMICS: un projecte CIBER per al disseny multidisciplinar per l'optimització del tractament de l'esquizofrènia basat en data multiòmica i anàlisi de sistemes biològics
DESCRIPTION:
URL:https://www.tauli.cat/actualitat/agenda/schizomics-a-ciber-multidisplinary-design-to-optimize-schizophrenia-treatment-based-on-multi-omics-data-and-systems-biology-analysis/
CATEGORIES:Conferència
ATTACH;FMTTYPE=image/jpeg:https://www.tauli.cat/actualitat/wp-content/uploads/2021/10/copy-space-paper-brain-with-light-bulb-scaled-e1634716874654.jpg
END:VEVENT
BEGIN:VEVENT
DTSTART;TZID=Europe/Madrid:20211202T150000
DTEND;TZID=Europe/Madrid:20211202T174500
DTSTAMP:20260423T181727
CREATED:20211029T072955Z
LAST-MODIFIED:20211029T072955Z
UID:4144-1638457200-1638467100@www.tauli.cat
SUMMARY:Webinar: Els efectes de la pandèmia en la salut mental
DESCRIPTION:[vc_row][vc_column][vc_column_text animation_delay=””]El 2 de desembre de 2021\, de 15h a 17:45h\, es realitzarà el webinar ‘Trastornos mentales en la pandemia: ¿Cómo respondemos?’ organitzat per l’I3PT i Salut Mental Parc Taulí.  \nDurant la sessió es presentaran els resultats de l’estudi PsyCOVID en la población general\, así com l’impacte de la COVID-19 en els adolescents i s’abordaran les recomanacions per a la prevenció del suïcidi. Coneixerem també el programa d’intervenció psicològica en atenció primària. \nLa inscripció és gratuïta mitjançant el següent enllaç i és oberta a tothom:\nhttp://www.tauli.cat/institut/docencia/postgrau/ \n[/vc_column_text][/vc_column][/vc_row][vc_row][vc_column][/vc_column][/vc_row][vc_row][vc_column]          Dijous\, 2 de desembre | 15:00 a 17:45h    Dijous\, 2 de desembre | 15:00 a 17:45h   [/vc_column][/vc_row]
URL:https://www.tauli.cat/actualitat/agenda/webinar-els-efectes-de-la-pandemia-en-la-salut-mental/
CATEGORIES:Conferència
ATTACH;FMTTYPE=image/jpeg:https://www.tauli.cat/actualitat/wp-content/uploads/2021/10/2022_12_02_webinar_salutmental-1024x683-1.jpg
END:VEVENT
BEGIN:VEVENT
DTSTART;TZID=America/Adak:20211201T143000
DTEND;TZID=America/Adak:20211201T153000
DTSTAMP:20260423T181727
CREATED:20210719T114119Z
LAST-MODIFIED:20211020T072844Z
UID:3495-1638369000-1638372600@www.tauli.cat
SUMMARY:Compra pública d'innovació: lliçons apreses i reptes
DESCRIPTION:
URL:https://www.tauli.cat/actualitat/agenda/compra-publica-dinnovacio-llicons-apreses-i-reptes/
CATEGORIES:Conferència
ATTACH;FMTTYPE=image/jpeg:https://www.tauli.cat/actualitat/wp-content/uploads/2021/07/3d-rendering-medical-artificial-intelligence-robot.jpg
END:VEVENT
BEGIN:VEVENT
DTSTART;TZID=Europe/Madrid:20211123T120000
DTEND;TZID=Europe/Madrid:20211123T173000
DTSTAMP:20260423T181727
CREATED:20210909T105314Z
LAST-MODIFIED:20211020T072844Z
UID:3797-1637668800-1637688600@www.tauli.cat
SUMMARY:4 tòpics en osteoporosi - 2a edició
DESCRIPTION:
URL:https://www.tauli.cat/actualitat/agenda/2a-edicio-4-topics-en-osteoporosi/
CATEGORIES:Formació
ATTACH;FMTTYPE=image/jpeg:https://www.tauli.cat/actualitat/wp-content/uploads/2021/09/Osteoporosi_5.jpg
END:VEVENT
BEGIN:VEVENT
DTSTART;TZID=Europe/Madrid:20211117T143000
DTEND;TZID=Europe/Madrid:20211117T153000
DTSTAMP:20260423T181727
CREATED:20210719T073900Z
LAST-MODIFIED:20211111T105546Z
UID:3482-1637159400-1637163000@www.tauli.cat
SUMMARY:Traduint les necessitats de l’hospital en innovacions
DESCRIPTION:[vc_row][vc_column][vc_column_text]Daniel Moreno\, Responsable del Programa d’Innovació de l’Hospital Tries i Pujol\, serà el protagonista de la propera conferència científica de l’I3PT que es farà el 17 de novembre de 14:30 a 15:30 per Zoom. \nMoreno farà una sessió inspiradora sobre els programes de promoció de la innovació en salut i del rol dels professionals clínics en aquests. Parlarà de la importància de desplegar diferents accions per tal d’assegurar una bona selecció de necessitats clíniques no cobertes i de diferents models d’innovació hospitalària que tenim en diferents hospitals catalans. Tot això en 45 minuts de conversa oberta on podreu participar amb les vostres preguntes. \nDaniel Moreno és el responsable del programa d’innovació de l’hospital Germans Tries i Pujol però ha estat molt vinculat a diferents programes d’acceleració d’innovació mèdica com el Innovation Forum o el EIT Health. Moreno també es consultor d’innovació associat a la universitat d’Oxford i a la Universitat Oberta de Catalunya. A més\, ha passat molts anys a Manchester\, on va fer la seva doctoral i va liderar nombres iniciatives per millorar el sistema d’innovació britànic. \nEnllaç per inscriure’s a la sessió gratuïta: http://www.tauli.cat/institut/docencia/postgrau/[/vc_column_text][/vc_column][/vc_row]
URL:https://www.tauli.cat/actualitat/agenda/traduint-les-necessitats-de-lhospital-en-innovacions/
CATEGORIES:Conferència
ATTACH;FMTTYPE=image/jpeg:https://www.tauli.cat/actualitat/wp-content/uploads/2021/07/businessman-connecting-modern-lightbulbs-with-connections.jpg
END:VEVENT
BEGIN:VEVENT
DTSTART;TZID=Europe/Madrid:20211116T140000
DTEND;TZID=Europe/Madrid:20211116T153000
DTSTAMP:20260423T181727
CREATED:20211006T144936Z
LAST-MODIFIED:20211020T072844Z
UID:4039-1637071200-1637076600@www.tauli.cat
SUMMARY:Conducta agressiva i trastorns de conducta: heterogeneïtat i desenvolupament en nens i nenes
DESCRIPTION:r
URL:https://www.tauli.cat/actualitat/agenda/conducta-agressiva-i-trastorns-de-conducta-heterogeneitat-i-desenvolupament-en-nens-i-nenes/
CATEGORIES:Conferència
ATTACH;FMTTYPE=image/jpeg:https://www.tauli.cat/actualitat/wp-content/uploads/2021/10/copy-space-paper-brain-with-light-bulb-scaled-e1634716874654.jpg
END:VEVENT
BEGIN:VEVENT
DTSTART;VALUE=DATE:20211116
DTEND;VALUE=DATE:20211117
DTSTAMP:20260423T181727
CREATED:20210909T084150Z
LAST-MODIFIED:20211020T072844Z
UID:3769-1637020800-1637107199@www.tauli.cat
SUMMARY:Reumatologia per metges de família - Webinar
DESCRIPTION:
URL:https://www.tauli.cat/actualitat/agenda/reumatologia-per-metges-de-familia-webinar/
CATEGORIES:Formació
ATTACH;FMTTYPE=image/jpeg:https://www.tauli.cat/actualitat/wp-content/uploads/2021/09/people-age-well-being-illness-and-health-problems-concept-studio-shot-of-frustrated-upset-sixty-year-old-man-in-spectacles-having-painful-look-rubbing-wrist-suffering-from-pain-in-joints_3.jpg
END:VEVENT
BEGIN:VEVENT
DTSTART;TZID=Europe/Madrid:20211020T143000
DTEND;TZID=Europe/Madrid:20211020T153000
DTSTAMP:20260423T181727
CREATED:20210719T065819Z
LAST-MODIFIED:20211020T072844Z
UID:3476-1634740200-1634743800@www.tauli.cat
SUMMARY:El que ha de saber un sanitari per protegir el seu coneixement diferencial
DESCRIPTION:
URL:https://www.tauli.cat/actualitat/agenda/el-que-ha-de-saber-un-sanitari-per-protegir-el-seu-coneixement-diferencial/
CATEGORIES:Conferència
ATTACH;FMTTYPE=image/jpeg:https://www.tauli.cat/actualitat/wp-content/uploads/2021/07/mental-health-day-man-holding-brain-illustration-on-gray-wall.jpg
END:VEVENT
BEGIN:VEVENT
DTSTART;TZID=Europe/Madrid:20211019T140000
DTEND;TZID=Europe/Madrid:20211019T153000
DTSTAMP:20260423T181727
CREATED:20211006T143246Z
LAST-MODIFIED:20211020T072926Z
UID:4036-1634652000-1634657400@www.tauli.cat
SUMMARY:La Marató TV3 Salut Mental 2022: idees i propostes de col·laboració
DESCRIPTION:
URL:https://www.tauli.cat/actualitat/agenda/la-marato-tv3-salut-mental-2022-idees-i-propostes-de-collaboracio/
CATEGORIES:Conferència
ATTACH;FMTTYPE=image/jpeg:https://www.tauli.cat/actualitat/wp-content/uploads/2021/10/copy-space-paper-brain-with-light-bulb-scaled-e1634716874654.jpg
END:VEVENT
BEGIN:VEVENT
DTSTART;TZID=Europe/Madrid:20211005T141500
DTEND;TZID=Europe/Madrid:20211005T160000
DTSTAMP:20260423T181727
CREATED:20210908T095324Z
LAST-MODIFIED:20211020T072927Z
UID:3754-1633443300-1633449600@www.tauli.cat
SUMMARY:Jornada de formació en: Càncer de pulmó no microcític
DESCRIPTION:
URL:https://www.tauli.cat/actualitat/agenda/jornada-de-formacion-en-cancer-de-pulmon-no-microcitico/
CATEGORIES:Formació
ATTACH;FMTTYPE=image/jpeg:https://www.tauli.cat/actualitat/wp-content/uploads/2021/09/medical-digital-human-chest-x-ray.jpg
END:VEVENT
BEGIN:VEVENT
DTSTART;VALUE=DATE:20211004
DTEND;VALUE=DATE:20211005
DTSTAMP:20260423T181727
CREATED:20210903T112503Z
LAST-MODIFIED:20211020T072927Z
UID:3687-1633305600-1633391999@www.tauli.cat
SUMMARY:Assistència integral al malalt crític amb patologia cardiovascular i/o respiratòria - 20a edició
DESCRIPTION:grauPostgra
URL:https://www.tauli.cat/actualitat/agenda/assistencia-integral-al-malalt-critic-amb-patologia-cardiovascular-i-o-respiratoria/
LOCATION:Aula de Simulació\, Parc Taulí\, 1\, Sabadell\, Catalunya\, 08208\, Espanya
CATEGORIES:Formació
ATTACH;FMTTYPE=image/jpeg:https://www.tauli.cat/actualitat/wp-content/uploads/2021/09/3d-illustration-of-human-heart-and-cardiogram-digital-technologies-in-medicine_2.jpg
END:VEVENT
BEGIN:VEVENT
DTSTART;VALUE=DATE:20210927
DTEND;VALUE=DATE:20210928
DTSTAMP:20260423T181727
CREATED:20210907T073929Z
LAST-MODIFIED:20211020T072927Z
UID:3693-1632700800-1632787199@www.tauli.cat
SUMMARY:Màster\, Postgrau i Curs d'Especialització en Intel·ligència Artificial en Salut
DESCRIPTION:
URL:https://www.tauli.cat/actualitat/agenda/master-postgrau-i-curs-despecialitzacio-en-intelligencia-artificial-en-salut/
CATEGORIES:Formació
ATTACH;FMTTYPE=image/jpeg:https://www.tauli.cat/actualitat/wp-content/uploads/2021/09/curs-inteligencia-artificial-i3pt_agenda.jpg
END:VEVENT
BEGIN:VEVENT
DTSTART;TZID=Europe/Madrid:20210922T143000
DTEND;TZID=Europe/Madrid:20210922T153000
DTSTAMP:20260423T181727
CREATED:20210715T060742Z
LAST-MODIFIED:20211020T072927Z
UID:3374-1632321000-1632324600@www.tauli.cat
SUMMARY:Potenciant la salut amb intel·ligència artificial
DESCRIPTION:
URL:https://www.tauli.cat/actualitat/agenda/potenciant-la-salut-amb-intelligencia-artificial/
CATEGORIES:Conferència
ATTACH;FMTTYPE=image/jpeg:https://www.tauli.cat/actualitat/wp-content/uploads/2021/07/conferencia-inteligencia-artificial.jpg
END:VEVENT
END:VCALENDAR